BEGIN:VCALENDAR
VERSION:2.0
PRODID:-//ddaysoftware.com//NONSGML DDay.iCal 1.0//EN
BEGIN:VTIMEZONE
TZID:W. Europe Standard Time
BEGIN:STANDARD
DTSTART:20251002T030000
RRULE:FREQ=YEARLY;BYDAY=-1SU;BYHOUR=3;BYMINUTE=0;BYMONTH=10
TZNAME:W. Europe Standard Time
TZOFFSETFROM:+0200
TZOFFSETTO:+0100
END:STANDARD
BEGIN:DAYLIGHT
DTSTART:20250301T020000
RRULE:FREQ=YEARLY;BYDAY=-1SU;BYHOUR=2;BYMINUTE=0;BYMONTH=3
TZNAME:W. Europe Daylight Time
TZOFFSETFROM:+0100
TZOFFSETTO:+0200
END:DAYLIGHT
END:VTIMEZONE
BEGIN:VEVENT
CATEGORIES:Museen
CATEGORIES:Museum Oberschönenfeld
CATEGORIES:Ausstellungen
CATEGORIES:Kultur
CATEGORIES:Führungen
CATEGORIES:SoundOfSchwaben
DESCRIPTION:telefonische Anmeldung erforderlich\n\nVeranstalter: Museum Obe
 rschönenfeld\n\nhttps://mos.bezirk-schwaben.de/veranstaltungen/erzaehlcafe
 -blasmusik-am-1209
DTEND:20260912T163000
DTSTAMP:20260421T084345Z
DTSTART:20260912T143000
LOCATION:Museum Oberschönenfeld: Oberschönenfeld 4\, 86459 Gessertshausen
SEQUENCE:0
SUMMARY:Erzählcafé: Klang der Erinnerungen
UID:56830
URL:https://mos.bezirk-schwaben.de/veranstaltungen/erzaehlcafe-blasmusik-am
 -1209
END:VEVENT
END:VCALENDAR
